BEGIN:VCALENDAR
VERSION:2.0
PRODID:-//Maine Health &amp; Wellness Guide - ECPv6.15.20//NONSGML v1.0//EN
CALSCALE:GREGORIAN
METHOD:PUBLISH
X-WR-CALNAME:Maine Health &amp; Wellness Guide
X-ORIGINAL-URL:https://mainehealthwellness.com
X-WR-CALDESC:Events for Maine Health &amp; Wellness Guide
REFRESH-INTERVAL;VALUE=DURATION:PT1H
X-Robots-Tag:noindex
X-PUBLISHED-TTL:PT1H
BEGIN:VTIMEZONE
TZID:America/New_York
BEGIN:DAYLIGHT
TZOFFSETFROM:-0500
TZOFFSETTO:-0400
TZNAME:EDT
DTSTART:20130310T070000
END:DAYLIGHT
BEGIN:STANDARD
TZOFFSETFROM:-0400
TZOFFSETTO:-0500
TZNAME:EST
DTSTART:20131103T060000
END:STANDARD
BEGIN:DAYLIGHT
TZOFFSETFROM:-0500
TZOFFSETTO:-0400
TZNAME:EDT
DTSTART:20140309T070000
END:DAYLIGHT
BEGIN:STANDARD
TZOFFSETFROM:-0400
TZOFFSETTO:-0500
TZNAME:EST
DTSTART:20141102T060000
END:STANDARD
BEGIN:DAYLIGHT
TZOFFSETFROM:-0500
TZOFFSETTO:-0400
TZNAME:EDT
DTSTART:20150308T070000
END:DAYLIGHT
BEGIN:STANDARD
TZOFFSETFROM:-0400
TZOFFSETTO:-0500
TZNAME:EST
DTSTART:20151101T060000
END:STANDARD
END:VTIMEZONE
BEGIN:VEVENT
DTSTART;TZID=America/New_York:20141112T173000
DTEND;TZID=America/New_York:20141112T203000
DTSTAMP:20260422T041927
CREATED:20141025T013736Z
LAST-MODIFIED:20141028T191925Z
UID:3526-1415813400-1415824200@mainehealthwellness.com
SUMMARY:Healthy Living Series Cochrane to Speak at American Lung Association
DESCRIPTION:Maine Huts & Trails Recreational Programs Manager Lani Cochrane will be a guest speaker at the fall American Lung Association Healthy Living Series on Nov. 12 from 5:30 p.m. to 8:30 p.m. at the L.L. Bean Bike\, Boat and Ski Store on Main Street in Freeport.
URL:https://mainehealthwellness.com/calendar-event/cochrane-speak-american-lung-association-healthy-living-series
LOCATION:LL Bean Bike\, Boat and Ski Store\, 57 Main St.\, Freeport\, Maine\, 04032
ATTACH;FMTTYPE=image/jpeg:https://mainehealthwellness.com/wp-content/uploads/2014/10/Lani-Headshot.jpg
ORGANIZER;CN="American Lung Association":MAILTO:TrekAcrossMaine@LungNE.org
END:VEVENT
BEGIN:VEVENT
DTSTART;TZID=America/New_York:20141108T060000
DTEND;TZID=America/New_York:20141108T110000
DTSTAMP:20260422T041927
CREATED:20141019T161833Z
LAST-MODIFIED:20141020T170003Z
UID:3494-1415426400-1415444400@mainehealthwellness.com
SUMMARY:Pajama Sale & Bed Races Saturday\, Nov. 8 in Bar Harbor
DESCRIPTION:Organized by the Bar Harbor Chamber of Commerce and presented by the Bar Harbor Merchant’s Association\, local shops throughout downtown Bar Harbor will be opening at 6 a.m. on Saturday\, Nov. 8 to offer some of the best sales of the season\, with even bigger discounts going to those dressed in pajamas. The sale runs from 6 a.m. to 9 a.m.  \nAt 10 a.m. join us for a bed and pajama parade down Main Street to Cottage Street where the 8th Annual Bed Races will take place. Teams will be racing their decorated handmade beds on wheels in two heats\, competing for a $500 cash prize and the newly designed first place trophy. Prizes will also be awarded for second place and most creative.  \nSo pack your finest pajamas and head to Bar Harbor for a weekend of fun. For more information on the event\, lodging options and other activities available in Bar Harbor\, visit www.barharborinfo.com.
URL:https://mainehealthwellness.com/calendar-event/annual-early-bird-pajama-sale-bed-races-saturday-nov-8-bar-harbor
LOCATION:Annual Early Bird Pajama Sale and Bed Races\, Bar Harbor\, Maine\, 04609 
ATTACH;FMTTYPE=image/jpeg:https://mainehealthwellness.com/wp-content/uploads/2014/10/bed-races-RL-75.jpg
ORGANIZER;CN="Bar Harbor Chamber of Commerce":MAILTO:visitors@barharborinfo.com
END:VEVENT
BEGIN:VEVENT
DTSTART;VALUE=DATE:20141108
DTEND;VALUE=DATE:20141110
DTSTAMP:20260422T041927
CREATED:20140923T012039Z
LAST-MODIFIED:20140923T012039Z
UID:3386-1415404800-1415577599@mainehealthwellness.com
SUMMARY:NORTH EAST INDOOR CHAMPS
DESCRIPTION:MAXIMUS IS EXCITED TO BRING YOU THE 2014 NEIC! \nAs this prestigous event continues to grow and momentum for this years event approaches we would like to fill you in on whats in store. \nSince the inaugural running of the NEIC two years ago we have seen many fun times\, as well as the natural progression of this event which has yet to slow. For this years event we would like to welcome the return of the Monster Energy marketing crew which will be on hand over the weekend. We have also seen many big name jump on board in support over the last couple of years. \nWe would like to welcome back Team Durango’s Travis Amezcua\, Carson Wernimont from Schumacher\, Matt Olson from MIP\, and Team Associated’s CJ Greaves! This is just a small part of what is likely to be the NEIC’s most competitive field to date. \nWE LOOK FORWARD TO SEEING YOU ALL AT THIS YEARS NEIC!
URL:https://mainehealthwellness.com/calendar-event/north-east-indoor-champs
LOCATION:Maximus R/C Raceway\, 647 US Route One\, York\, Maine\, 03909
ATTACH;FMTTYPE=image/jpeg:https://mainehealthwellness.com/wp-content/uploads/2014/09/neic_flyer_web.jpg
END:VEVENT
BEGIN:VEVENT
DTSTART;TZID=America/New_York:20141102T110000
DTEND;TZID=America/New_York:20141102T150000
DTSTAMP:20260422T041927
CREATED:20141026T195045Z
LAST-MODIFIED:20141028T191840Z
UID:3530-1414926000-1414940400@mainehealthwellness.com
SUMMARY:Smedberg's Crystal Spring Farm Country Fest
DESCRIPTION:Customer Appreciation Day! Join us for a pig roast\, free samples\, meat sale\, music\, munchies\, and more!
URL:https://mainehealthwellness.com/calendar-event/smedbergs-crystal-spring-farm-country-fest
LOCATION:Smedberg’s\, Rt 26\, Oxford\, ME
END:VEVENT
BEGIN:VEVENT
DTSTART;TZID=America/New_York:20141031T180000
DTEND;TZID=America/New_York:20141031T220000
DTSTAMP:20260422T041927
CREATED:20141016T193702Z
LAST-MODIFIED:20141016T193702Z
UID:3488-1414778400-1414792800@mainehealthwellness.com
SUMMARY:MAMM Presents: GHOUL OF ROCK All ages Halloween Bash!
DESCRIPTION:This Halloween the Maine Academy of Modern Music’s teen rock bands will be melting faces at the creepiest all-ages costume party in town.
URL:https://mainehealthwellness.com/calendar-event/mamm-presents-ghoul-rock-ages-halloween-bash
LOCATION:Bayside Bowl\, Portland\, Maine
ATTACH;FMTTYPE=image/jpeg:https://mainehealthwellness.com/wp-content/uploads/2014/10/ghouls.jpg
END:VEVENT
BEGIN:VEVENT
DTSTART;TZID=America/New_York:20141026T100000
DTEND;TZID=America/New_York:20141026T150000
DTSTAMP:20260422T041927
CREATED:20141003T130941Z
LAST-MODIFIED:20141009T200218Z
UID:3448-1414317600-1414335600@mainehealthwellness.com
SUMMARY:Pumpkin Scramble
DESCRIPTION:18 hole scramble 10Am Shotgun start
URL:https://mainehealthwellness.com/calendar-event/pumpkin-scramble
LOCATION:Fox Ridge Golf Club\, 550 Penley Corner Rd.\, Auburn\, Maine\, 04210
END:VEVENT
BEGIN:VEVENT
DTSTART;VALUE=DATE:20141025
DTEND;VALUE=DATE:20141027
DTSTAMP:20260422T041927
CREATED:20141012T014447Z
LAST-MODIFIED:20141012T014447Z
UID:3479-1414195200-1414367999@mainehealthwellness.com
SUMMARY:Central Maine Dryland Challenge
DESCRIPTION:Dog Sledding Race on wheels!\nSponsored by Central Maine Motors\, T-Mobile and Down East Sled Dog Club.\nTeams from all over the northeast and Canada will be racing sled dogs at the Quarry Road Recreation Area on October 25 and 26\, 2014. Classes include running\, scootering\, biking and carting with our canine athletes. \nThere will be a citizens class for those wishing to participate while running the 2 mile trail with their canine friend. \nEvent runs from 9:00- 3:00 both days with a food vendor on site. Find us on FB and at desdc.org\, email us heywoodkennel@yahoo.com for questions.
URL:https://mainehealthwellness.com/calendar-event/central-maine-dryland-challenge
LOCATION:Quarry Road Recreation Area\, Quarry Road\, Waterville \, ME\, 04901
ATTACH;FMTTYPE=image/jpeg:https://mainehealthwellness.com/wp-content/uploads/2014/10/jb-bike-2.jpg
END:VEVENT
BEGIN:VEVENT
DTSTART;TZID=America/New_York:20141024T170000
DTEND;TZID=America/New_York:20141024T210000
DTSTAMP:20260422T041927
CREATED:20140923T012109Z
LAST-MODIFIED:20140923T012109Z
UID:3378-1414170000-1414184400@mainehealthwellness.com
SUMMARY:Maine Ski Hall of Fame Induction
DESCRIPTION:Annual induction banquet and celebration
URL:https://mainehealthwellness.com/calendar-event/maine-ski-hall-fame-induction
LOCATION:Lost Valley Ski Area\, Lost valley Rd\, Auburn\, Me\, 04210
ORGANIZER;CN="Ski Museum of Maine":MAILTO:info@skimuseumofmaine.org
END:VEVENT
BEGIN:VEVENT
DTSTART;TZID=America/New_York:20141024T170000
DTEND;TZID=America/New_York:20141024T190000
DTSTAMP:20260422T041927
CREATED:20141002T024318Z
LAST-MODIFIED:20141020T174637Z
UID:3441-1414170000-1414177200@mainehealthwellness.com
SUMMARY:Smudge Dinner & Art
DESCRIPTION:Welcome all kids 2-9 yrs old to enjoy art and dinner in the studio. We start with 45 minutes in the studio\, break for a pizza dinner with apples and then end with art.  The theme for Dinner and Art in October is Halloween mess.
URL:https://mainehealthwellness.com/calendar-event/smudge-dinner-art
LOCATION:Smudge Art Studio\, 15 School St \, Freeport\, ME\, 04032
ATTACH;FMTTYPE=image/jpeg:https://mainehealthwellness.com/wp-content/uploads/2014/10/IMG_1893.jpg
ORGANIZER;CN="Sarah Jacobs":MAILTO:art@smudge4kids.com
END:VEVENT
BEGIN:VEVENT
DTSTART;TZID=America/New_York:20141023T170000
DTEND;TZID=America/New_York:20141023T190000
DTSTAMP:20260422T041927
CREATED:20141020T172647Z
LAST-MODIFIED:20141020T173726Z
UID:3506-1414083600-1414090800@mainehealthwellness.com
SUMMARY:Harry Barkers II
DESCRIPTION:The Greater Bridgton Lakes Region Chamber of Commerce will be having their next After Hours at Harry Barkers II located on 32 Main Street in Bridgton\, ME from 5pm – 7pm. It is where all business owners\, friends and neighbors can mingle on a monthly basis. After Hours is always free and all are welcomed to attend!
URL:https://mainehealthwellness.com/calendar-event/hours-harry-barkers-ii
LOCATION:Harry Barkers II\, 32 Main Street\, Bridgton\, ME\, 04009
ATTACH;FMTTYPE=image/jpeg:https://mainehealthwellness.com/wp-content/uploads/2014/10/After-Hours-logo.jpg
ORGANIZER;CN="Greater Bridgton Lakes Region Chamber of Commerce":MAILTO:info@mainelakeschamber.com
END:VEVENT
BEGIN:VEVENT
DTSTART;TZID=America/New_York:20141018T193000
DTEND;TZID=America/New_York:20141018T230000
DTSTAMP:20260422T041927
CREATED:20140923T012137Z
LAST-MODIFIED:20140923T012137Z
UID:3374-1413660600-1413673200@mainehealthwellness.com
SUMMARY:Alfond Youth Charity Ball
DESCRIPTION:All proceeds benefit the Boys and Girls Clubs and YMCA at the Alfond Youth Center of the Greater Waterville Area. The event will take place at The Hatahway Creative Center in Waterville\, ME. The theme is ‘The Roaring 20’s.’ The evening will feature a catered dinner\, live music\, and silent auction\, in Great Gatsby style.
URL:https://mainehealthwellness.com/calendar-event/alfond-youth-charity-ball
LOCATION:Hathaway Creative Center\, 10 Water Street\, Waterville\, Maine\, 04901
ATTACH;FMTTYPE=image/jpeg:https://mainehealthwellness.com/wp-content/uploads/2014/09/charity-ball.jpg
ORGANIZER;CN="The Alfond Youth Center":MAILTO:anew@alfondyouthcenter.org
END:VEVENT
BEGIN:VEVENT
DTSTART;VALUE=DATE:20141013
DTEND;VALUE=DATE:20141014
DTSTAMP:20260422T041927
CREATED:20140929T191543Z
LAST-MODIFIED:20140929T191543Z
UID:3422-1413158400-1413244799@mainehealthwellness.com
SUMMARY:Book Signing by Kate Krukowski Gooding!
DESCRIPTION:Starting at 6:00 a.m. on Monday\, October 13th\, Moose River cookbook author Kate Krukowski Gooding will be at Bishop’s Store Moose Tagging Station signing cookbooks AND giving away one FREE homemade Moose Salami for each moose tongue donated (and the recipe) and FREE Goats Milk Peanut Butter Fudge for each cookbook purchase. Kate is the author of the Black Fly Stew Series: Wild Maine Recipes\, Simple Gourmet Lamb and Wine Pairings\, 50 Ways to Eat a Beaver and Free-Range Fish & Lobster cookbooks. An avid tester\, Kate continues to test new recipes\, hence the need for moose tongues (or any other parts). Moose tongue contributors will be credited in her next cookbook “Cook Local-Spice Global.” She will be there until the Moose Salami and Goats Milk Peanut Butter Fudge runs out.
URL:https://mainehealthwellness.com/calendar-event/book-signing-kate-krukowski-gooding
LOCATION:Bishop’s Store\, 464 Main Street\, Jackman\, Maine\, 04945
ORGANIZER;CN="Ray Levesque":MAILTO:mail@bishopsstore.com
END:VEVENT
BEGIN:VEVENT
DTSTART;TZID=America/New_York:20141011T150000
DTEND;TZID=America/New_York:20141011T200000
DTSTAMP:20260422T041927
CREATED:20141001T114252Z
LAST-MODIFIED:20141001T114252Z
UID:3428-1413039600-1413057600@mainehealthwellness.com
SUMMARY:Oktoberfest
DESCRIPTION:Food\, Drinks\, Live Music\, Pumpkin decorating\, Cornhole…An afternoon of fun for the whole family!!!
URL:https://mainehealthwellness.com/calendar-event/oktoberfest
LOCATION:Mt. Abram\, 308 Howe Hill Road\, Greenwood \, ME\, 04255
ATTACH;FMTTYPE=image/jpeg:https://mainehealthwellness.com/wp-content/uploads/2014/10/oktoberfest-WebSlider.jpg
ORGANIZER;CN="Mt. Abram":MAILTO:marketingdirector@skimtabram.com
END:VEVENT
BEGIN:VEVENT
DTSTART;TZID=America/New_York:20141011T100000
DTEND;TZID=America/New_York:20141011T150000
DTSTAMP:20260422T041927
CREATED:20141002T024410Z
LAST-MODIFIED:20141002T024410Z
UID:3433-1413021600-1413039600@mainehealthwellness.com
SUMMARY:11th ANNUAL COASTAL KITCHEN TOUR
DESCRIPTION:VISIT THE KITCHENS OF SOME OF THE LOVELIEST HOMES IN KENNEBUNK AND KENNEBUNKPORT.  TICKETS ARE $30 PER PERSON\, $20 IF YOU ARE A MEMBER OF THE SENIOR CENTER.  ALL PROCEEDS TO BENEFIT THE SENIOR CENTER AT LOWER VILLAGE IN KENNEBUNK.  TICKETS ARE NOW AVAILABLE FOR PURCHASE AT THE SENIOR CENTER\, 175 PORT ROAD\, KENNEBUNK.  CALL 967-8514 FOR MORE INFORMATION.
URL:https://mainehealthwellness.com/calendar-event/11th-annual-coastal-kitchen-tour
LOCATION:11TH ANNUAL COASTAL KITCHEN TOUR\, 175 PORT ROAD\, KENNEBUNK\, MAINE\, 04043
ATTACH;FMTTYPE=image/jpeg:https://mainehealthwellness.com/wp-content/uploads/2014/10/Senior-Center-Kitchen-Tour.jpeg
ORGANIZER;CN="SENIOR CENTER AT LOWER VILLAGE":MAILTO:inquiry@seniorcenterkennebunk.org
END:VEVENT
BEGIN:VEVENT
DTSTART;TZID=America/New_York:20140924T180000
DTEND;TZID=America/New_York:20140924T200000
DTSTAMP:20260422T041927
CREATED:20140923T012203Z
LAST-MODIFIED:20140923T012203Z
UID:3382-1411581600-1411588800@mainehealthwellness.com
SUMMARY:Leaving Tracks: A Maine Tradition New Book Signing
DESCRIPTION:Signing of a new book just on how to make traditional snowshoes\, By Brian J. Theriault.
URL:https://mainehealthwellness.com/calendar-event/leaving-tracks-maine-tradition-book-signing
LOCATION:New Book signing\, Sherman's Books Store\, Bar Harbor\, 04032
ATTACH;FMTTYPE=image/jpeg:https://mainehealthwellness.com/wp-content/uploads/2014/09/Pinintrest-Front-cover.jpg
ORGANIZER;CN="Deb.":MAILTO:shopmaine@shermans.com
END:VEVENT
BEGIN:VEVENT
DTSTART;TZID=America/New_York:20140921T090000
DTEND;TZID=America/New_York:20140927T210000
DTSTAMP:20260422T041927
CREATED:20140828T155533Z
LAST-MODIFIED:20140917T001652Z
UID:3279-1411290000-1411851600@mainehealthwellness.com
SUMMARY:Cumberland County Fair
DESCRIPTION:Children 12 and under – Free\nAdults (13 & over) $9.00 Daily\nSeniors $3.00 Tuesday and Thursday only \nOpening day is September 21st – We are planning for another FANTASTIC year! The 143rd Annual Cumberland Fair is planning out all of the great events that will make this THE Fair to attend in 2014!!!! We’re pulling out all the stops to put on another top-quality\, family friendly week of entertainment and agricultural education! The Cumberland Farmer’s Club is pleased to announce we will be featuring the Rawhide Rodeo once again this year –with daily exhibitions to include two full Professional Rodeo events\, Professional Bull Riding and a Children’s rodeo daily! We will also feature FIREWORKS for the first time ever on Saturday evening\, September 27th put on by the amazing folks at Central Maine Pyrotechnics! An event you won’t want to miss!!!!
URL:https://mainehealthwellness.com/calendar-event/cumberland-county-fair
LOCATION:Cumberland Fairgrounds\, 197 Blanchard Road\, Cumberland\, 04021
END:VEVENT
BEGIN:VEVENT
DTSTART;TZID=America/New_York:20140920T080000
DTEND;TZID=America/New_York:20140920T160000
DTSTAMP:20260422T041927
CREATED:20140828T154753Z
LAST-MODIFIED:20140828T154753Z
UID:3276-1411200000-1411228800@mainehealthwellness.com
SUMMARY:17th Annual Harvestfest & Chowdah Cookoff
DESCRIPTION:Celebrate the harvest and the beginning of fall foliage season with arts\, crafts\, music\, a farmers’ market\, a chowder and apple pie cookoff\, and much more on the town common. Always the third Saturday in September. Local businesses and nonprofits join in the fun by hosting events and building their best scarecrows around the area. \nDon’t miss the Chowdah Cookoff – hundreds of hungry tasters line up as many of your favorite restaurants vie for Peoples’ or Judges’ Choice!
URL:https://mainehealthwellness.com/calendar-event/17th-annual-harvestfest-chowdah-cookoff
LOCATION:Bethel Common\, Bethel
END:VEVENT
BEGIN:VEVENT
DTSTART;TZID=America/New_York:20140919T090000
DTEND;TZID=America/New_York:20140921T170000
DTSTAMP:20260422T041927
CREATED:20140828T154504Z
LAST-MODIFIED:20140828T154504Z
UID:3274-1411117200-1411318800@mainehealthwellness.com
SUMMARY:Common Ground Contry Fair
DESCRIPTION:A celebration of rural living that promotes organically grown Maine produce\, alternative lifestyles\, and a common ground for a variety of organizations and ethnic backgrounds. If you’ve ever been to the Fair\, you know — and if you haven’t been\, anyone who has will tell you — it’s an event like no other\, that brings together so many people from so many walks of life\, all in the spirit of celebrating the rural and agricultural traditions of Maine.
URL:https://mainehealthwellness.com/calendar-event/common-ground-contry-fair
LOCATION:Unnamed Venue\, 294 Crosby Brook Rd\, Unity\, 04988
END:VEVENT
BEGIN:VEVENT
DTSTART;TZID=America/New_York:20140914T080000
DTEND;TZID=America/New_York:20140920T170000
DTSTAMP:20260422T041927
CREATED:20140828T154012Z
LAST-MODIFIED:20140828T154012Z
UID:3272-1410681600-1411232400@mainehealthwellness.com
SUMMARY:Farmington Fair
DESCRIPTION:174th Annual Exhibition 1840-2014. Visit the fair’s website for the 2014 fair program.
URL:https://mainehealthwellness.com/calendar-event/farmington-fair
LOCATION:Unnamed Venue\, 292 High Street\, Farmington\, 04938
END:VEVENT
BEGIN:VEVENT
DTSTART;TZID=America/New_York:20140914T040000
DTEND;TZID=America/New_York:20140915T150000
DTSTAMP:20260422T041927
CREATED:20140828T152754Z
LAST-MODIFIED:20140917T001801Z
UID:3266-1410667200-1410793200@mainehealthwellness.com
SUMMARY:19th Annual OOB Car Show
DESCRIPTION:Car show with many divisions\, entertainment\, trophies and awards. Friday night lineup on Main Street with parade and car show on Saturday.
URL:https://mainehealthwellness.com/calendar-event/19th-annual-oob-car-show
LOCATION:ME
END:VEVENT
BEGIN:VEVENT
DTSTART;TZID=America/New_York:20140912T080000
DTEND;TZID=America/New_York:20140914T170000
DTSTAMP:20260422T041927
CREATED:20140828T153608Z
LAST-MODIFIED:20140828T153608Z
UID:3270-1410508800-1410714000@mainehealthwellness.com
SUMMARY:Trails End Festival
DESCRIPTION:All trails will again lead to Millinocket\, Maine and the 2014 Trails End Festival held on September 12th\, 13th and 14th. People in the Katahdin Region and from all over will celebrate with food\, activities and fun for the whole family. Join us for 3-days of free music in downtown Millinocket. \nThis years musical lineup is still being compiled. We were fortunate to have had the Mallett Brothers Band headlining our festival in 2012 & 2013 and are pleased to announce they will be back for 2014!  All of our musical performances will continue to be free for your enjoyment!
URL:https://mainehealthwellness.com/calendar-event/trails-festival
LOCATION:Unnamed Venue\, 96 Penobscot Ave\, Millinocket
END:VEVENT
BEGIN:VEVENT
DTSTART;TZID=America/New_York:20140912T080000
DTEND;TZID=America/New_York:20140914T170000
DTSTAMP:20260422T041927
CREATED:20140828T153057Z
LAST-MODIFIED:20140828T153057Z
UID:3268-1410508800-1410714000@mainehealthwellness.com
SUMMARY:New Portland Lions Agricultural Fair and The Maine Crafts Festival
DESCRIPTION:Our Fair is located on Route 146 in North New Portland\, Maine and just 20 minutes from Skowhegan.  The 100-acre facility boasts a demolition derby\, horse pulls\, truck & tractor pulls\, ATV Pulls\, fireworks (moved to Saturday night this year)\, midway rides and a rotating selection of entertaining stage shows. Enjoy our Lumberjack show\, petting zoo\, and the Maine Craft Festival. \nOn-site camping is available so you and your family can stay the entire weekend and enjoy every second of the fair! Campsites fill up fast.
URL:https://mainehealthwellness.com/calendar-event/portland-lions-agricultural-fair-maine-crafts-festival
LOCATION:Unnamed Venue\, Route 146\, North New Portland
END:VEVENT
BEGIN:VEVENT
DTSTART;TZID=America/New_York:20140910T080000
DTEND;TZID=America/New_York:20140913T170000
DTSTAMP:20260422T041927
CREATED:20140828T152436Z
LAST-MODIFIED:20140917T001727Z
UID:3264-1410336000-1410627600@mainehealthwellness.com
SUMMARY:Oxford County Fair
DESCRIPTION:The Oxford County Fair is intended to promote local agriculture. From new affordable pricing to exciting entertainment; there is something for everyone. And because of the support from our local community we have created a fair focused on families and agriculture. We welcome you to come see what 2014 has to offer.   Exciting new competitions\, shows\, entertainment and much more. Don’t miss out\, come join the fun!
URL:https://mainehealthwellness.com/calendar-event/oxford-county-fair
LOCATION:Unnamed Venue\, 68 Pottle Road\, Oxford\, 04270
END:VEVENT
BEGIN:VEVENT
DTSTART;TZID=America/New_York:20140905T080000
DTEND;TZID=America/New_York:20140907T170000
DTSTAMP:20260422T041927
CREATED:20140828T152056Z
LAST-MODIFIED:20140828T152056Z
UID:3262-1409904000-1410109200@mainehealthwellness.com
SUMMARY:Eastport Pirate Festival
DESCRIPTION:The largest pirate festival in New Engalnd\, the 9th Annual Eastport Pirate Festival brings arts\, crafts\, food vendors\, waterfront fireworks\, live entertainment\, cannon battles\, pirate parade\, kids pirate sail\, pirate ball\, thieves market\, pirate bed and crate races\, pirate reenactments\, 5k and 1 mile fun run\, and more!
URL:https://mainehealthwellness.com/calendar-event/eastport-pirate-festival
LOCATION:Unnamed Venue\, Eastport
END:VEVENT
BEGIN:VEVENT
DTSTART;TZID=America/New_York:20140905T070000
DTEND;TZID=America/New_York:20140907T183000
DTSTAMP:20260422T041927
CREATED:20140828T151413Z
LAST-MODIFIED:20140828T151413Z
UID:3260-1409900400-1410114600@mainehealthwellness.com
SUMMARY:Litchfield Fair
DESCRIPTION:It’s what a fair should be! See the website for a complete fair schedule.
URL:https://mainehealthwellness.com/calendar-event/litchfield-fair
LOCATION:Unnamed Venue\, 44 Plains Rd\, Litchfield\, 04350
END:VEVENT
BEGIN:VEVENT
DTSTART;TZID=America/New_York:20140904T130000
DTEND;TZID=America/New_York:20140907T130000
DTSTAMP:20260422T041927
CREATED:20140828T150934Z
LAST-MODIFIED:20140828T150934Z
UID:3258-1409835600-1410094800@mainehealthwellness.com
SUMMARY:41st Annual International Seaplane Fly-in
DESCRIPTION:“In the warming sun\, we were constantly entertained by the never-ending barrage of low altitude fly-bys. What a great town this is! Cubs\, Taylorcrafts\, ultralights\, Cessnas of all types and colors buzzing right down Main Street\, all eyes upturned. But instead of folks running to the phone to call the local FAA office to report low flying aircraft\, there is a reverence expressed by the onlookers\, and an occasional “Oouu” or “Aaah”. It seems as if everyone in this town loves airplanes.
URL:https://mainehealthwellness.com/calendar-event/41st-annual-international-seaplane-fly-in
LOCATION:Moosehead Lake\, Greenville
END:VEVENT
BEGIN:VEVENT
DTSTART;TZID=America/New_York:20140904T080000
DTEND;TZID=America/New_York:20140907T170000
DTSTAMP:20260422T041927
CREATED:20140828T150455Z
LAST-MODIFIED:20140828T150455Z
UID:3255-1409817600-1410109200@mainehealthwellness.com
SUMMARY:Clinton Lions Agricultural Fair
DESCRIPTION:You will be entertained if you’ll join us at the fair!  Our agricultural fair still has that small town country atmosphere with a very small entrance fee but is filled with activities\, food and entertainment.  If you’d like to stay with us for a few days we also offer camping with water and power available at the sites. \nThe midway opens on Thursday and continues through Sunday.  At 10 AM  on Saturday morning our parade makes it’s way along Main Street through downtown Clinton..  Our parade includes local musicians\, marching bands\, antique cars\, fire trucks\, and many other local groups to entertain the large crowd that usually gathers for this annual event. 
URL:https://mainehealthwellness.com/calendar-event/clinton-lions-agricultural-fair
LOCATION:Clinton Fairgrounds\, 1450 Bangor Road\, Clinton
END:VEVENT
BEGIN:VEVENT
DTSTART;TZID=America/New_York:20140830T100000
DTEND;TZID=America/New_York:20140830T200000
DTSTAMP:20260422T041927
CREATED:20140828T150039Z
LAST-MODIFIED:20140828T150039Z
UID:3253-1409392800-1409428800@mainehealthwellness.com
SUMMARY:Rangeley Trail Town Festival
DESCRIPTION:3rd Annual Trail Town Festival\, Haley Pond Park on Pond Street. Come celebrate and help promote Rangeley as one of the premier trail towns in New England. We are an official Appalachian Trail community and have hundreds of miles of trails for hiking\, walking\, mountain biking\, snowmobiling\, ATV-ing\, downhill skiing\, cross-country skiing and snowshoeing. \nEvents at this year’s festival will include:\nLive music and open mikes throughout the day\nExhibits – vendor booths – demonstrations\nIce cream eating contest – games – childrens’ activities\nThru hikers’ reunion – food – refreshments\nBonfire & marshmallow roast
URL:https://mainehealthwellness.com/calendar-event/rangeley-trail-town-festival
LOCATION:ME
END:VEVENT
BEGIN:VEVENT
DTSTART;VALUE=DATE:20140825
DTEND;VALUE=DATE:20140831
DTSTAMP:20260422T041927
CREATED:20140825T013854Z
LAST-MODIFIED:20140825T013854Z
UID:3241-1408924800-1409443199@mainehealthwellness.com
SUMMARY:Windsor Fair
DESCRIPTION:Located in the heart of Central Maine\, our fairgrounds are in close proximity to the Maine Coast\, golf courses and mountains. \n Encompassing 275 acres\, it is one of the largest agricultural fairs with attendance estimated at over 150\,000 \n Daily entertainment featuring the best of local and nationally recognized talent.\n A huge exhibit of farm animals with premiums to exhibitors approaching $125\,000\n Nine days of harness racing with some of the highest purses of the year.  Windsor holds the record for any fair racing meet in Maine with a one day handle of $291\,878\n Horse pulling\, steer and oxen pulling\, tractor pulling and antique tractors.  Maine State Holstien Cattle Show\, Barrel Racing\, Team Penning\, Draft Horse Show and many breeds of Dairy and Beef Cattle. \nWell organized as an extremely clean and well maintained fair\, we think you’ll like our facility. We work hard in making your stay enjoyable. As the fair draws closer to the nine days prior to Labor day be checking our Facebook page at: www.facebook.com/WindsorFair and watching for our ads in the papers and on TV and radio.
URL:https://mainehealthwellness.com/calendar-event/windsor-fair
LOCATION:Unnamed Venue\, Windsor\, Maine
END:VEVENT
BEGIN:VEVENT
DTSTART;TZID=America/New_York:20140823T080000
DTEND;TZID=America/New_York:20140824T170000
DTSTAMP:20260422T041927
CREATED:20140813T160018Z
LAST-MODIFIED:20140813T160112Z
UID:3180-1408780800-1408899600@mainehealthwellness.com
SUMMARY:Tough Mudder NE
DESCRIPTION:Tough Mudder events are hardcore obstacle courses designed to test your all around strength\, stamina\, mental grit and camaraderie. With the most innovative courses\, over one million inspiring participants worldwide to date\, and more than $6 million raised for the Wounded Warrior Project\, Tough Mudder is the premier adventure challenge series in the world.
URL:https://mainehealthwellness.com/calendar-event/tough-mudder-ne
LOCATION:Sunset Ridge\,  771 Cumberland St\,  Westbrook\, 04092
END:VEVENT
END:VCALENDAR