BEGIN:VCALENDAR
VERSION:2.0
PRODID:-//Maine Health &amp; Wellness Guide - ECPv6.15.20//NONSGML v1.0//EN
CALSCALE:GREGORIAN
METHOD:PUBLISH
X-ORIGINAL-URL:https://mainehealthwellness.com
X-WR-CALDESC:Events for Maine Health &amp; Wellness Guide
REFRESH-INTERVAL;VALUE=DURATION:PT1H
X-Robots-Tag:noindex
X-PUBLISHED-TTL:PT1H
BEGIN:VTIMEZONE
TZID:America/New_York
BEGIN:DAYLIGHT
TZOFFSETFROM:-0500
TZOFFSETTO:-0400
TZNAME:EDT
DTSTART:20130310T070000
END:DAYLIGHT
BEGIN:STANDARD
TZOFFSETFROM:-0400
TZOFFSETTO:-0500
TZNAME:EST
DTSTART:20131103T060000
END:STANDARD
BEGIN:DAYLIGHT
TZOFFSETFROM:-0500
TZOFFSETTO:-0400
TZNAME:EDT
DTSTART:20140309T070000
END:DAYLIGHT
BEGIN:STANDARD
TZOFFSETFROM:-0400
TZOFFSETTO:-0500
TZNAME:EST
DTSTART:20141102T060000
END:STANDARD
BEGIN:DAYLIGHT
TZOFFSETFROM:-0500
TZOFFSETTO:-0400
TZNAME:EDT
DTSTART:20150308T070000
END:DAYLIGHT
BEGIN:STANDARD
TZOFFSETFROM:-0400
TZOFFSETTO:-0500
TZNAME:EST
DTSTART:20151101T060000
END:STANDARD
END:VTIMEZONE
BEGIN:VTIMEZONE
TZID:UTC
BEGIN:STANDARD
TZOFFSETFROM:+0000
TZOFFSETTO:+0000
TZNAME:UTC
DTSTART:19690101T000000
END:STANDARD
END:VTIMEZONE
BEGIN:VEVENT
DTSTART;TZID=America/New_York:20140823T080000
DTEND;TZID=America/New_York:20140823T170000
DTSTAMP:20260422T071446
CREATED:20140813T161530Z
LAST-MODIFIED:20140813T161530Z
UID:3182-1408780800-1408813200@mainehealthwellness.com
SUMMARY:Me. Outdoor Film Festival
DESCRIPTION:The Maine Outdoor Film Festival: celebrating the active outdoor community and inspiring expression since 2012. Proceeds to benefit the Teens to Trails program.
URL:https://mainehealthwellness.com/calendar-event/me-outdoor-film-festival
LOCATION:3 Rivers\, U.S. 201\, The Forks\, 04985
END:VEVENT
BEGIN:VEVENT
DTSTART;TZID=America/New_York:20140822T183000
DTEND;TZID=America/New_York:20140822T200000
DTSTAMP:20260422T071446
CREATED:20140804T211956Z
LAST-MODIFIED:20140804T212130Z
UID:3094-1408732200-1408737600@mainehealthwellness.com
SUMMARY:Sunset Canoe Tour
DESCRIPTION:Experience the marsh at this beautiful time of day. See the reflection of the setting sun on the calm waters of the Dunstan River\, observe the herons and shorebirds flying back to their roosts\, and enjoy the sounds of the evening marsh. Members: $11 – Non-members: $13
URL:https://mainehealthwellness.com/calendar-event/sunset-canoe-tour
LOCATION:Scarborough Marsh Audubon Center\, Scarborough\, ME\, 04070\, United States
END:VEVENT
BEGIN:VEVENT
DTSTART;TZID=America/New_York:20140821T170000
DTEND;TZID=America/New_York:20140821T190000
DTSTAMP:20260422T071446
CREATED:20140818T185543Z
LAST-MODIFIED:20140818T192442Z
UID:3233-1408640400-1408647600@mainehealthwellness.com
SUMMARY:L.N. Clark Organization Benefit Night
DESCRIPTION:This month we’re raising money for the L.N. Clark Inspiration Network – an organization founded in 2008 to aid Maine cancer patients and their families during their medical journey.\nA portion of all dinner proceeds will go to the organization. In addition\, we will also be hosting a wine tasting starting at 5 p.m. Wines provided by National Distributors. Light appetizers will be available.  \nAdmission for the wine tasting is $18 each and can be purchased at the door. You can find out more or RSVP on Facebook.
URL:https://mainehealthwellness.com/calendar-event/l-n-clark-organization-benefit-night
LOCATION:Amici’s Cucina\, 137 Main Street\, Waterville\, Maine\, 04901
END:VEVENT
BEGIN:VEVENT
DTSTART;TZID=America/New_York:20140816T080000
DTEND;TZID=America/New_York:20140823T170000
DTSTAMP:20260422T071446
CREATED:20140813T162155Z
LAST-MODIFIED:20140813T162155Z
UID:3185-1408176000-1408813200@mainehealthwellness.com
SUMMARY:Union Fair
DESCRIPTION:A classic\, rural Maine fair\, one of the oldest in Maine\, celebrating all aspects of agriculture\, including a wild blueberry festival.
URL:https://mainehealthwellness.com/calendar-event/union-fair
LOCATION:Union Fair Grounds\, Union\, 04862
END:VEVENT
BEGIN:VEVENT
DTSTART;TZID=America/New_York:20140815T060000
DTEND;TZID=America/New_York:20140817T180000
DTSTAMP:20260422T071446
CREATED:20140804T210610Z
LAST-MODIFIED:20140804T210652Z
UID:3091-1408082400-1408298400@mainehealthwellness.com
SUMMARY:Great Falls Balloon Festival
DESCRIPTION:Established in 1992 by a group of business people\, civic leaders and friends\, the Great Falls Balloon Festival is a weekend-long celebration featuring hot air balloons\, food and entertainment. \nWith the support of local businesses\, an army of volunteers and the cooperative efforts of the cities of Lewiston and Auburn\, the festival has gained a national reputation as a first-class event and is a destination for many visitors to the state of Maine.
URL:https://mainehealthwellness.com/calendar-event/great-falls-balloon-festival
LOCATION:Lewiston/Auburn\, Lewiston/Auburn\, ME\, 04240\, United States
END:VEVENT
BEGIN:VEVENT
DTSTART;VALUE=DATE:20140810
DTEND;VALUE=DATE:20140811
DTSTAMP:20260422T071446
CREATED:20140804T205005Z
LAST-MODIFIED:20140804T205604Z
UID:3089-1407628800-1407715199@mainehealthwellness.com
SUMMARY:Portland Reggae Fest
DESCRIPTION:Waterfront Concerts and the City of Portland have teamed up to bring you the First Annual Portland Reggae Fest LIVE at the Maine State Pier on August 10th as part of the Machias Savings Bank Concert Series.  With an incredible line-up that showcases the best and brightest of today’s reggae and world music talent the\, Portland Reggae Fest will include such artists as Freddie McGregor\, John Brown’s Body\, Mighty Mystic\, Etana\, New Kingston\, Soul Rebel Project\, Dany C\, Ice of Caribbean Flava and Green Lion Crew.
URL:https://mainehealthwellness.com/calendar-event/portland-reggae-fest
LOCATION:Maine State Pier\, Portland\, ME\, 04101\, United States
END:VEVENT
BEGIN:VEVENT
DTSTART;TZID=UTC:20260422T071446
DTEND;TZID=UTC:20260422T071446
DTSTAMP:20260422T071446
CREATED:20180117T221806Z
LAST-MODIFIED:20180117T221806Z
UID:11421-0-0@mainehealthwellness.com
SUMMARY:5K Space Race
DESCRIPTION:Challenger invites you to launch into the spring running season with the second annual Challenger 5K Space Race on Saturday\, March\, 31!\nARE YOU UP TO THE CHALLENGE? Challenger’s 5k includes WAC Hill\, so named when the neighborhood around Challenger was the home to Dow Air Force Base.\nThis year\, we’ve included a category for youth up to the age of 14! Run with your family & friends in Bangor on Saturday\, March 31st. This fun event will raise funds to help the Challenger Learning Center of Maine fulfill its mission to inspire STEM learning and career aspirations for Maine students.\nREGISTRATION IS OPEN!
URL:https://mainehealthwellness.com/calendar-event/5k-space-race
ATTACH;FMTTYPE=image/png:https://mainehealthwellness.com/wp-content/uploads/2018/01/5k-race.png
END:VEVENT
BEGIN:VEVENT
DTSTART;TZID=UTC:20260422T071446
DTEND;TZID=UTC:20260422T071446
DTSTAMP:20260422T071446
CREATED:20180101T220857Z
LAST-MODIFIED:20180101T220857Z
UID:11420-0-0@mainehealthwellness.com
SUMMARY:Ski Legends of Maine GS Race
DESCRIPTION:Giant Slalom Race for ages 50 and over at Sunday River. Race against Maine Ski Hall of Famer’s Greg Sweetser\, Bob Harkins\, Tim Lavallee and others. Men’s and Women’s divisions ages 50-59\, 60-69\, 70+. Monday Mourning Trail. Awards immediately following at Barker Lodge. A benefit for the Ski Museum of Maine. Register 9-noon at Barker Baselodge or in advance online at www.adminskiracing.com. Race begins at 1 pm.
URL:https://mainehealthwellness.com/calendar-event/ski-legends-of-maine-gs-race
ATTACH;FMTTYPE=image/jpeg:https://mainehealthwellness.com/wp-content/uploads/2018/01/skimuseum-hres-j1.jpg
END:VEVENT
END:VCALENDAR